BEGIN:VCALENDAR
VERSION:2.0
PRODID:-//Seacliff Primary School - ECPv5.1.4//NONSGML v1.0//EN
CALSCALE:GREGORIAN
METHOD:PUBLISH
X-WR-CALNAME:Seacliff Primary School
X-ORIGINAL-URL:http://seacliff.sa.edu.au/wp
X-WR-CALDESC:Events for Seacliff Primary School
BEGIN:VTIMEZONE
TZID:Australia/Adelaide
BEGIN:STANDARD
TZOFFSETFROM:+1030
TZOFFSETTO:+0930
TZNAME:ACST
DTSTART:20210403T163000
END:STANDARD
BEGIN:DAYLIGHT
TZOFFSETFROM:+0930
TZOFFSETTO:+1030
TZNAME:ACDT
DTSTART:20211002T163000
END:DAYLIGHT
BEGIN:STANDARD
TZOFFSETFROM:+1030
TZOFFSETTO:+0930
TZNAME:ACST
DTSTART:20220402T163000
END:STANDARD
BEGIN:DAYLIGHT
TZOFFSETFROM:+0930
TZOFFSETTO:+1030
TZNAME:ACDT
DTSTART:20221001T163000
END:DAYLIGHT
END:VTIMEZONE
BEGIN:VEVENT
DTSTART;VALUE=DATE:20210409
DTEND;VALUE=DATE:20210410
DTSTAMP:20210226T224807
CREATED:20210118T231131Z
LAST-MODIFIED:20210118T231131Z
UID:2220-1617926400-1618012799@seacliff.sa.edu.au
SUMMARY:End of Term 1
DESCRIPTION:\n    \n\n
URL:http://seacliff.sa.edu.au/wp/event/end-of-term-1-2/
END:VEVENT
BEGIN:VEVENT
DTSTART;VALUE=DATE:20210427
DTEND;VALUE=DATE:20210428
DTSTAMP:20210226T224807
CREATED:20210118T231301Z
LAST-MODIFIED:20210118T231301Z
UID:2222-1619481600-1619567999@seacliff.sa.edu.au
SUMMARY:Start of Term 2
DESCRIPTION:\n    \n\n
URL:http://seacliff.sa.edu.au/wp/event/start-of-term-2/
END:VEVENT
BEGIN:VEVENT
DTSTART;VALUE=DATE:20210702
DTEND;VALUE=DATE:20210703
DTSTAMP:20210226T224807
CREATED:20210118T231342Z
LAST-MODIFIED:20210118T231342Z
UID:2224-1625184000-1625270399@seacliff.sa.edu.au
SUMMARY:End of Term 2
DESCRIPTION:\n    \n\n
URL:http://seacliff.sa.edu.au/wp/event/end-of-term-2-2/
END:VEVENT
BEGIN:VEVENT
DTSTART;VALUE=DATE:20210720
DTEND;VALUE=DATE:20210721
DTSTAMP:20210226T224807
CREATED:20210118T231421Z
LAST-MODIFIED:20210119T040147Z
UID:2226-1626739200-1626825599@seacliff.sa.edu.au
SUMMARY:Start of Term 3
DESCRIPTION:\n    \n\n
URL:http://seacliff.sa.edu.au/wp/event/start-of-term-3/
END:VEVENT
BEGIN:VEVENT
DTSTART;VALUE=DATE:20210924
DTEND;VALUE=DATE:20210925
DTSTAMP:20210226T224807
CREATED:20210118T231457Z
LAST-MODIFIED:20210118T231457Z
UID:2228-1632441600-1632527999@seacliff.sa.edu.au
SUMMARY:End of Term 3
DESCRIPTION:\n    \n\n
URL:http://seacliff.sa.edu.au/wp/event/end-of-term-3-2/
END:VEVENT
BEGIN:VEVENT
DTSTART;VALUE=DATE:20211011
DTEND;VALUE=DATE:20211012
DTSTAMP:20210226T224807
CREATED:20210118T231540Z
LAST-MODIFIED:20210118T231540Z
UID:2230-1633910400-1633996799@seacliff.sa.edu.au
SUMMARY:Start of Term 4
DESCRIPTION:\n    \n\n
URL:http://seacliff.sa.edu.au/wp/event/start-of-term-4/
END:VEVENT
BEGIN:VEVENT
DTSTART;VALUE=DATE:20211210
DTEND;VALUE=DATE:20211211
DTSTAMP:20210226T224807
CREATED:20210118T231617Z
LAST-MODIFIED:20210118T231617Z
UID:2232-1639094400-1639180799@seacliff.sa.edu.au
SUMMARY:End of Term 4
DESCRIPTION:\n    \n\n
URL:http://seacliff.sa.edu.au/wp/event/end-of-term-4-2/
END:VEVENT
BEGIN:VEVENT
DTSTART;VALUE=DATE:20211202
DTEND;VALUE=DATE:20211204
DTSTAMP:20210226T224807
CREATED:20210118T231832Z
LAST-MODIFIED:20210118T231832Z
UID:2234-1638403200-1638575999@seacliff.sa.edu.au
SUMMARY:Year 6 & 7 High School Transition Days
DESCRIPTION:\n    \n\n
URL:http://seacliff.sa.edu.au/wp/event/year-6-7-high-school-transition-days/
END:VEVENT
BEGIN:VEVENT
DTSTART;VALUE=DATE:20210308
DTEND;VALUE=DATE:20210309
DTSTAMP:20210226T224807
CREATED:20210118T232039Z
LAST-MODIFIED:20210118T232039Z
UID:2238-1615161600-1615247999@seacliff.sa.edu.au
SUMMARY:ADELAIDE CUP DAY
DESCRIPTION:\n    \n\n
URL:http://seacliff.sa.edu.au/wp/event/adelaide-cup-day/
END:VEVENT
BEGIN:VEVENT
DTSTART;VALUE=DATE:20210402
DTEND;VALUE=DATE:20210403
DTSTAMP:20210226T224807
CREATED:20210118T232131Z
LAST-MODIFIED:20210118T232131Z
UID:2240-1617321600-1617407999@seacliff.sa.edu.au
SUMMARY:GOOD FRIDAY
DESCRIPTION:\n    \n\n
URL:http://seacliff.sa.edu.au/wp/event/good-friday/
END:VEVENT
BEGIN:VEVENT
DTSTART;VALUE=DATE:20210405
DTEND;VALUE=DATE:20210406
DTSTAMP:20210226T224807
CREATED:20210118T232202Z
LAST-MODIFIED:20210118T232202Z
UID:2242-1617580800-1617667199@seacliff.sa.edu.au
SUMMARY:EASTER MONDAY
DESCRIPTION:\n    \n\n
URL:http://seacliff.sa.edu.au/wp/event/easter-monday/
END:VEVENT
BEGIN:VEVENT
DTSTART;VALUE=DATE:20210426
DTEND;VALUE=DATE:20210427
DTSTAMP:20210226T224807
CREATED:20210118T232254Z
LAST-MODIFIED:20210118T232254Z
UID:2244-1619395200-1619481599@seacliff.sa.edu.au
SUMMARY:ANZAC DAY HOLIDAY
DESCRIPTION:\n    \n\n
URL:http://seacliff.sa.edu.au/wp/event/anzac-day-holiday/
END:VEVENT
BEGIN:VEVENT
DTSTART;VALUE=DATE:20210614
DTEND;VALUE=DATE:20210615
DTSTAMP:20210226T224807
CREATED:20210118T232325Z
LAST-MODIFIED:20210118T232325Z
UID:2246-1623628800-1623715199@seacliff.sa.edu.au
SUMMARY:QUEENS BIRTHDAY
DESCRIPTION:\n    \n\n
URL:http://seacliff.sa.edu.au/wp/event/queens-birthday/
END:VEVENT
BEGIN:VEVENT
DTSTART;VALUE=DATE:20211004
DTEND;VALUE=DATE:20211005
DTSTAMP:20210226T224807
CREATED:20210118T232403Z
LAST-MODIFIED:20210118T232403Z
UID:2248-1633305600-1633391999@seacliff.sa.edu.au
SUMMARY:LABOUR DAY
DESCRIPTION:\n    \n\n
URL:http://seacliff.sa.edu.au/wp/event/labour-day/
END:VEVENT
BEGIN:VEVENT
DTSTART;VALUE=DATE:20220131
DTEND;VALUE=DATE:20220201
DTSTAMP:20210226T224807
CREATED:20210118T232549Z
LAST-MODIFIED:20210118T233906Z
UID:2250-1643587200-1643673599@seacliff.sa.edu.au
SUMMARY:Start of Term 1
DESCRIPTION:\n    \n\n
URL:http://seacliff.sa.edu.au/wp/event/start-of-term-1-2/
END:VEVENT
BEGIN:VEVENT
DTSTART;VALUE=DATE:20210309
DTEND;VALUE=DATE:20210310
DTSTAMP:20210226T224807
CREATED:20210119T035759Z
LAST-MODIFIED:20210119T035759Z
UID:2253-1615248000-1615334399@seacliff.sa.edu.au
SUMMARY:PUPIL FREE DAY
DESCRIPTION:\n    \n\n
URL:http://seacliff.sa.edu.au/wp/event/pupil-free-day-4/
END:VEVENT
BEGIN:VEVENT
DTSTART;VALUE=DATE:20210611
DTEND;VALUE=DATE:20210612
DTSTAMP:20210226T224807
CREATED:20210119T035834Z
LAST-MODIFIED:20210119T035842Z
UID:2255-1623369600-1623455999@seacliff.sa.edu.au
SUMMARY:PUPIL FREE DAY
DESCRIPTION:\n    \n\n
URL:http://seacliff.sa.edu.au/wp/event/pupil-free-day-5/
END:VEVENT
BEGIN:VEVENT
DTSTART;VALUE=DATE:20210719
DTEND;VALUE=DATE:20210720
DTSTAMP:20210226T224807
CREATED:20210119T035927Z
LAST-MODIFIED:20210119T035927Z
UID:2258-1626652800-1626739199@seacliff.sa.edu.au
SUMMARY:PUPIL FREE DAY
DESCRIPTION:\n    \n\n
URL:http://seacliff.sa.edu.au/wp/event/pupil-free-day-6/
END:VEVENT
BEGIN:VEVENT
DTSTART;VALUE=DATE:20211129
DTEND;VALUE=DATE:20211130
DTSTAMP:20210226T224807
CREATED:20210119T040010Z
LAST-MODIFIED:20210119T040010Z
UID:2260-1638144000-1638230399@seacliff.sa.edu.au
SUMMARY:SCHOOL CLOSURE DAY
DESCRIPTION:\n    \n\n
URL:http://seacliff.sa.edu.au/wp/event/school-closure-day-2/
END:VEVENT
BEGIN:VEVENT
DTSTART;VALUE=DATE:20210823
DTEND;VALUE=DATE:20210828
DTSTAMP:20210226T224807
CREATED:20210121T004032Z
LAST-MODIFIED:20210121T004032Z
UID:2286-1629676800-1630108799@seacliff.sa.edu.au
SUMMARY:BOOKWEEK 2021 - OLD WORLDS\, NEW WORLDS\, OTHER WORLDS
DESCRIPTION:\n    \n\n
URL:http://seacliff.sa.edu.au/wp/event/bookweek-2021-old-worlds-new-worlds-other-worlds/
END:VEVENT
BEGIN:VEVENT
DTSTART;VALUE=DATE:20210827
DTEND;VALUE=DATE:20210828
DTSTAMP:20210226T224807
CREATED:20210121T004236Z
LAST-MODIFIED:20210121T004236Z
UID:2288-1630022400-1630108799@seacliff.sa.edu.au
SUMMARY:BOOKWEEK PARADE
DESCRIPTION:\n    \n\n
URL:http://seacliff.sa.edu.au/wp/event/bookweek-parade/
END:VEVENT
BEGIN:VEVENT
DTSTART;TZID=Australia/Adelaide:20210302T093000
DTEND;TZID=Australia/Adelaide:20210302T110000
DTSTAMP:20210226T224807
CREATED:20210211T000317Z
LAST-MODIFIED:20210211T001546Z
UID:2422-1614677400-1614682800@seacliff.sa.edu.au
SUMMARY:PRINCIPAL TOUR
DESCRIPTION:To book in to a tour please call the school on 08 8296 1950 or email to dl.0913.info@schools.sa.edu.au \n\n    \n\n
URL:http://seacliff.sa.edu.au/wp/event/principal-tour/
END:VEVENT
BEGIN:VEVENT
DTSTART;TZID=Australia/Adelaide:20210504T093000
DTEND;TZID=Australia/Adelaide:20210504T110000
DTSTAMP:20210226T224807
CREATED:20210211T000649Z
LAST-MODIFIED:20210211T000922Z
UID:2424-1620120600-1620126000@seacliff.sa.edu.au
SUMMARY:PRINCIPAL TOUR
DESCRIPTION: \nTo book in to a tour please call the school on 08 8296 1950 or email to dl.0913.info@schools.sa.edu.au \n\n    \n\n
URL:http://seacliff.sa.edu.au/wp/event/principal-tour-2/
END:VEVENT
BEGIN:VEVENT
DTSTART;TZID=Australia/Adelaide:20210601T093000
DTEND;TZID=Australia/Adelaide:20210601T110000
DTSTAMP:20210226T224807
CREATED:20210211T010738Z
LAST-MODIFIED:20210211T010738Z
UID:2431-1622539800-1622545200@seacliff.sa.edu.au
SUMMARY:PRINCIPAL TOUR
DESCRIPTION:To book in to a tour please call the school on 08 8296 1950 or email to dl.0913.info@schools.sa.edu.au \n\n    \n\n
URL:http://seacliff.sa.edu.au/wp/event/principal-tour-3/
END:VEVENT
BEGIN:VEVENT
DTSTART;TZID=Australia/Adelaide:20210727T093000
DTEND;TZID=Australia/Adelaide:20210727T110000
DTSTAMP:20210226T224807
CREATED:20210211T011014Z
LAST-MODIFIED:20210211T011014Z
UID:2433-1627378200-1627383600@seacliff.sa.edu.au
SUMMARY:PRINCIPAL TOUR
DESCRIPTION:To book in to a tour please call the school on 08 8296 1950 or email to dl.0913.info@schools.sa.edu.au \n\n    \n\n
URL:http://seacliff.sa.edu.au/wp/event/principal-tour-4/
END:VEVENT
BEGIN:VEVENT
DTSTART;TZID=Australia/Adelaide:20210824T093000
DTEND;TZID=Australia/Adelaide:20210824T110000
DTSTAMP:20210226T224807
CREATED:20210211T011147Z
LAST-MODIFIED:20210211T011147Z
UID:2435-1629797400-1629802800@seacliff.sa.edu.au
SUMMARY:PRINCIPAL TOUR
DESCRIPTION:To book in to a tour please call the school on 08 8296 1950 or email to dl.0913.info@schools.sa.edu.au \n\n    \n\n
URL:http://seacliff.sa.edu.au/wp/event/principal-tour-5/
END:VEVENT
BEGIN:VEVENT
DTSTART;VALUE=DATE:20210910
DTEND;VALUE=DATE:20210911
DTSTAMP:20210226T224807
CREATED:20210218T231136Z
LAST-MODIFIED:20210218T231216Z
UID:2474-1631232000-1631318399@seacliff.sa.edu.au
SUMMARY:JUNIOR PRIMARY SPORTS DAY (REC-YR 2)
DESCRIPTION:\n    \n\n
URL:http://seacliff.sa.edu.au/wp/event/junior-primary-sports-day-rec-yr-2/
END:VEVENT
BEGIN:VEVENT
DTSTART;VALUE=DATE:20210917
DTEND;VALUE=DATE:20210918
DTSTAMP:20210226T224807
CREATED:20210218T231921Z
LAST-MODIFIED:20210218T232101Z
UID:2477-1631836800-1631923199@seacliff.sa.edu.au
SUMMARY:PRIMARY SPORTS DAY (YR 3-7)
DESCRIPTION:\n    \n\n
URL:http://seacliff.sa.edu.au/wp/event/primary-sports-day-yr-3-7/
END:VEVENT
BEGIN:VEVENT
DTSTART;VALUE=DATE:20210317
DTEND;VALUE=DATE:20210318
DTSTAMP:20210226T224807
CREATED:20210224T044842Z
LAST-MODIFIED:20210224T044842Z
UID:2480-1615939200-1616025599@seacliff.sa.edu.au
SUMMARY:School Photos Day
DESCRIPTION: \n\n    \n\n
URL:http://seacliff.sa.edu.au/wp/event/school-photos-day/
END:VEVENT
BEGIN:VEVENT
DTSTART;VALUE=DATE:20210322
DTEND;VALUE=DATE:20210323
DTSTAMP:20210226T224807
CREATED:20210224T045107Z
LAST-MODIFIED:20210224T045107Z
UID:2482-1616371200-1616457599@seacliff.sa.edu.au
SUMMARY:Catch up School Photos Day
DESCRIPTION: \n\n    \n\n
URL:http://seacliff.sa.edu.au/wp/event/catch-up-school-photos-day/
END:VEVENT
END:VCALENDAR